BEGIN:VCALENDAR
VERSION:2.0
PRODID:-//Regional Access Project Foundation, Inc. - ECPv6.15.17.1//NONSGML v1.0//EN
CALSCALE:GREGORIAN
METHOD:PUBLISH
X-WR-CALNAME:Regional Access Project Foundation, Inc.
X-ORIGINAL-URL:https://rapfoundation.org
X-WR-CALDESC:Events for Regional Access Project Foundation, Inc.
REFRESH-INTERVAL;VALUE=DURATION:PT1H
X-Robots-Tag:noindex
X-PUBLISHED-TTL:PT1H
BEGIN:VTIMEZONE
TZID:America/Los_Angeles
BEGIN:DAYLIGHT
TZOFFSETFROM:-0800
TZOFFSETTO:-0700
TZNAME:PDT
DTSTART:20210314T100000
END:DAYLIGHT
BEGIN:STANDARD
TZOFFSETFROM:-0700
TZOFFSETTO:-0800
TZNAME:PST
DTSTART:20211107T090000
END:STANDARD
BEGIN:DAYLIGHT
TZOFFSETFROM:-0800
TZOFFSETTO:-0700
TZNAME:PDT
DTSTART:20220313T100000
END:DAYLIGHT
BEGIN:STANDARD
TZOFFSETFROM:-0700
TZOFFSETTO:-0800
TZNAME:PST
DTSTART:20221106T090000
END:STANDARD
BEGIN:DAYLIGHT
TZOFFSETFROM:-0800
TZOFFSETTO:-0700
TZNAME:PDT
DTSTART:20230312T100000
END:DAYLIGHT
BEGIN:STANDARD
TZOFFSETFROM:-0700
TZOFFSETTO:-0800
TZNAME:PST
DTSTART:20231105T090000
END:STANDARD
BEGIN:DAYLIGHT
TZOFFSETFROM:-0800
TZOFFSETTO:-0700
TZNAME:PDT
DTSTART:20240310T100000
END:DAYLIGHT
BEGIN:STANDARD
TZOFFSETFROM:-0700
TZOFFSETTO:-0800
TZNAME:PST
DTSTART:20241103T090000
END:STANDARD
BEGIN:DAYLIGHT
TZOFFSETFROM:-0800
TZOFFSETTO:-0700
TZNAME:PDT
DTSTART:20250309T100000
END:DAYLIGHT
BEGIN:STANDARD
TZOFFSETFROM:-0700
TZOFFSETTO:-0800
TZNAME:PST
DTSTART:20251102T090000
END:STANDARD
BEGIN:DAYLIGHT
TZOFFSETFROM:-0800
TZOFFSETTO:-0700
TZNAME:PDT
DTSTART:20260308T100000
END:DAYLIGHT
BEGIN:STANDARD
TZOFFSETFROM:-0700
TZOFFSETTO:-0800
TZNAME:PST
DTSTART:20261101T090000
END:STANDARD
BEGIN:DAYLIGHT
TZOFFSETFROM:-0800
TZOFFSETTO:-0700
TZNAME:PDT
DTSTART:20270314T100000
END:DAYLIGHT
BEGIN:STANDARD
TZOFFSETFROM:-0700
TZOFFSETTO:-0800
TZNAME:PST
DTSTART:20271107T090000
END:STANDARD
END:VTIMEZONE
BEGIN:VEVENT
DTSTART;TZID=America/Los_Angeles:20260413T100000
DTEND;TZID=America/Los_Angeles:20260413T110000
DTSTAMP:20260423T161121
CREATED:20260121T235531Z
LAST-MODIFIED:20260409T230947Z
UID:10000105-1776074400-1776078000@rapfoundation.org
SUMMARY:Finance Committee
DESCRIPTION:REGIONAL ACCESS PROJECT FOUNDATION  \nFINANCE/INVESTMENT COMMITTEE MEETING  \nFinance/Investment Committee Meeting \nCANCELLED \n41550 Eclectic St. Palm Desert\, CA 92260 \nNotice of cancellation of the Monday\, April 13\, 2026\, Finance/Investment Committee Meeting due to scheduling conflict. NOTICE IS HEREBY GIVEN THAT THE Monday\, April 13\, 2026\, Finance/Investment Committee Meeting has been canceled. The next regular scheduled Finance/Investment Committee Meeting will be held as follows: \nDate: Monday May 11\, 2026 \nTime: 10:00 AM Pacific Time \nLocation: 41550 Eclectic St.\, Palm Desert\, CA 92260 \nThe agenda for the meeting will be posted on the RAP website in accordance with the Ralph. M. Brown Act. For questions\, contact Mireya Reyes at mreyes@RAPFoundation.org
URL:https://rapfoundation.org/events/finance-committee-4/
LOCATION:Wilson Community Room (101)\, 41550 Eclectic St.\, Palm Desert\, CA\, 92260\, United States
END:VEVENT
BEGIN:VEVENT
DTSTART;TZID=America/Los_Angeles:20260317T100000
DTEND;TZID=America/Los_Angeles:20260317T110000
DTSTAMP:20260423T161121
CREATED:20260121T235221Z
LAST-MODIFIED:20260313T210333Z
UID:10000106-1773741600-1773745200@rapfoundation.org
SUMMARY:Finance Committee - CANCELED
DESCRIPTION:REGIONAL ACCESS PROJECT FOUNDATION  \nFINANCE/INVESTMENT COMMITTEE MEETING  \nClick here for agenda with attachments  \nMarch 17\, 2026\, 10:00am or immediately following the Executive Committee meeting  \nCANCELED 
URL:https://rapfoundation.org/events/finance-committee-3/
LOCATION:Wilson Community Room (101)\, 41550 Eclectic St.\, Palm Desert\, CA\, 92260\, United States
END:VEVENT
BEGIN:VEVENT
DTSTART;TZID=America/Los_Angeles:20260316T130000
DTEND;TZID=America/Los_Angeles:20260316T150000
DTSTAMP:20260423T161121
CREATED:20260313T000851Z
LAST-MODIFIED:20260313T000851Z
UID:10000584-1773666000-1773673200@rapfoundation.org
SUMMARY:Grants Review Committee Meeting - March 16\, 2026
DESCRIPTION:Grants Review Committee Meeting \nMarch 16\, 2026\, at 1:00 pm \n Click Here to access the Agenda 
URL:https://rapfoundation.org/events/grants-review-committee-meeting-march-16-2026/
LOCATION:Wilson Community Room (101)\, 41550 Eclectic St.\, Palm Desert\, CA\, 92260\, United States
END:VEVENT
BEGIN:VEVENT
DTSTART;TZID=America/Los_Angeles:20260309T130000
DTEND;TZID=America/Los_Angeles:20260309T150000
DTSTAMP:20260423T161121
CREATED:20260303T000346Z
LAST-MODIFIED:20260306T232538Z
UID:10000581-1773061200-1773068400@rapfoundation.org
SUMMARY:NPO Centric Special Committee Meeting
DESCRIPTION:Click here to view the agenda with attachments. \nBoard members must attend in person. The public may participate in person or by way of Zoom/Teleconference. Join Zoom Meeting Here:https: //us02web.zoom.us/j/83333639738 \nCall-In: (669) 444 9171   Meeting ID: 833 3363 9738  \nThis meeting will be conducted in person and is consistent with Governor Newsom’s Assembly Bill 2449\, preserving AB 361 and adding two more options for hybrid meetings: “just cause” and “emergency circumstances.”
URL:https://rapfoundation.org/events/npo-centric-special-committee-meeting-6/
LOCATION:Wilson Community Room (101)\, 41550 Eclectic St.\, Palm Desert\, CA\, 92260\, United States
END:VEVENT
BEGIN:VEVENT
DTSTART;TZID=America/Los_Angeles:20221108T133000
DTEND;TZID=America/Los_Angeles:20221108T143000
DTSTAMP:20260423T161121
CREATED:20221031T230231Z
LAST-MODIFIED:20260216T233708Z
UID:10000531-1667914200-1667917800@rapfoundation.org
SUMMARY:Special Grants Review Committee Meeting
DESCRIPTION:Special Grants Review Committee Agenda\nTuesday\, November 8\, 2022\, 1:30 PM Pacific Time\nRAP Foundation\, 41-550 Eclectic St.\, Palm Desert\, CA 92260 \nJoin Zoom Meeting: https://us02web.zoom.us/j/84293619987\nMeeting ID: 842 9361 9987 Call In: (669) 900-6833 US \nClick to view Agenda
URL:https://rapfoundation.org/events/grants-review-committeee-2/
LOCATION:Wilson Community Room (101)\, 41550 Eclectic St.\, Palm Desert\, CA\, 92260\, United States
END:VEVENT
END:VCALENDAR