BEGIN:VCALENDAR
VERSION:2.0
PRODID:-//Regional Access Project Foundation, Inc. - ECPv6.15.17.1//NONSGML v1.0//EN
CALSCALE:GREGORIAN
METHOD:PUBLISH
X-WR-CALNAME:Regional Access Project Foundation, Inc.
X-ORIGINAL-URL:https://rapfoundation.org
X-WR-CALDESC:Events for Regional Access Project Foundation, Inc.
REFRESH-INTERVAL;VALUE=DURATION:PT1H
X-Robots-Tag:noindex
X-PUBLISHED-TTL:PT1H
BEGIN:VTIMEZONE
TZID:America/Los_Angeles
BEGIN:DAYLIGHT
TZOFFSETFROM:-0800
TZOFFSETTO:-0700
TZNAME:PDT
DTSTART:20250309T100000
END:DAYLIGHT
BEGIN:STANDARD
TZOFFSETFROM:-0700
TZOFFSETTO:-0800
TZNAME:PST
DTSTART:20251102T090000
END:STANDARD
BEGIN:DAYLIGHT
TZOFFSETFROM:-0800
TZOFFSETTO:-0700
TZNAME:PDT
DTSTART:20260308T100000
END:DAYLIGHT
BEGIN:STANDARD
TZOFFSETFROM:-0700
TZOFFSETTO:-0800
TZNAME:PST
DTSTART:20261101T090000
END:STANDARD
BEGIN:DAYLIGHT
TZOFFSETFROM:-0800
TZOFFSETTO:-0700
TZNAME:PDT
DTSTART:20270314T100000
END:DAYLIGHT
BEGIN:STANDARD
TZOFFSETFROM:-0700
TZOFFSETTO:-0800
TZNAME:PST
DTSTART:20271107T090000
END:STANDARD
END:VTIMEZONE
BEGIN:VEVENT
DTSTART;TZID=America/Los_Angeles:20260413T090000
DTEND;TZID=America/Los_Angeles:20260413T100000
DTSTAMP:20260423T131235
CREATED:20260320T003048Z
LAST-MODIFIED:20260413T153437Z
UID:10000587-1776070800-1776074400@rapfoundation.org
SUMMARY:Executive Committee Meeting Cancelled
DESCRIPTION:
URL:https://rapfoundation.org/events/executive-committee-meeting-41/
END:VEVENT
BEGIN:VEVENT
DTSTART;TZID=America/Los_Angeles:20260413T100000
DTEND;TZID=America/Los_Angeles:20260413T110000
DTSTAMP:20260423T131235
CREATED:20260121T235531Z
LAST-MODIFIED:20260409T230947Z
UID:10000105-1776074400-1776078000@rapfoundation.org
SUMMARY:Finance Committee
DESCRIPTION:REGIONAL ACCESS PROJECT FOUNDATION  \nFINANCE/INVESTMENT COMMITTEE MEETING  \nFinance/Investment Committee Meeting \nCANCELLED \n41550 Eclectic St. Palm Desert\, CA 92260 \nNotice of cancellation of the Monday\, April 13\, 2026\, Finance/Investment Committee Meeting due to scheduling conflict. NOTICE IS HEREBY GIVEN THAT THE Monday\, April 13\, 2026\, Finance/Investment Committee Meeting has been canceled. The next regular scheduled Finance/Investment Committee Meeting will be held as follows: \nDate: Monday May 11\, 2026 \nTime: 10:00 AM Pacific Time \nLocation: 41550 Eclectic St.\, Palm Desert\, CA 92260 \nThe agenda for the meeting will be posted on the RAP website in accordance with the Ralph. M. Brown Act. For questions\, contact Mireya Reyes at mreyes@RAPFoundation.org
URL:https://rapfoundation.org/events/finance-committee-4/
LOCATION:Wilson Community Room (101)\, 41550 Eclectic St.\, Palm Desert\, CA\, 92260\, United States
END:VEVENT
BEGIN:VEVENT
DTSTART;TZID=America/Los_Angeles:20260413T130000
DTEND;TZID=America/Los_Angeles:20260413T140000
DTSTAMP:20260423T131235
CREATED:20260409T204931Z
LAST-MODIFIED:20260410T182420Z
UID:10000593-1776085200-1776088800@rapfoundation.org
SUMMARY:Grants Review Committee Meeting - April 13\, 2026
DESCRIPTION:  \n \nGrants Review Committee Agenda\nMonday\, April 13\, 2026\, 1:00 PM Pacific Time\nRAP Foundation\, 41-550 Eclectic St.\, Palm Desert\, CA 92260 \nJoin Zoom Webinar: https://us02web.zoom.us/j/815580136229\nCall In: 1 669 900 6833  /  Meeting ID: 8155580136229 \nClick to view Agenda
URL:https://rapfoundation.org/events/grants-committee-meeting/
END:VEVENT
BEGIN:VEVENT
DTSTART;TZID=America/Los_Angeles:20260415T090000
DTEND;TZID=America/Los_Angeles:20260415T100000
DTSTAMP:20260423T131235
CREATED:20260413T170258Z
LAST-MODIFIED:20260413T172333Z
UID:10000594-1776243600-1776247200@rapfoundation.org
SUMMARY:Executive Committee Meeting April 15 at 9am
DESCRIPTION:Click here to view the agenda with attachments. \n  \n  \nJoin Zoom Meeting\nhttps://us02web.zoom.us/j/87955930950\nCall-In: 16694449171 Meeting ID: 879 5593 0950 \n  \n 
URL:https://rapfoundation.org/events/executive-committee-meeting-april-15-at-9am/
END:VEVENT
BEGIN:VEVENT
DTSTART;TZID=America/Los_Angeles:20260420T130000
DTEND;TZID=America/Los_Angeles:20260420T143000
DTSTAMP:20260423T131235
CREATED:20260415T204517Z
LAST-MODIFIED:20260415T204815Z
UID:10000596-1776690000-1776695400@rapfoundation.org
SUMMARY:NPO Centric
DESCRIPTION:Click here to view the agenda with attachments.  \n  \n  \n  \nJoin Zoom Meeting Here: https://us02web.zoom.us/j/84916663636  \nCall-In: +1 669 444 9171 Meeting ID: 84916663636 
URL:https://rapfoundation.org/events/npo-centric/
END:VEVENT
BEGIN:VEVENT
DTSTART;TZID=America/Los_Angeles:20260422T090000
DTEND;TZID=America/Los_Angeles:20260422T110000
DTSTAMP:20260423T131235
CREATED:20260415T202604Z
LAST-MODIFIED:20260422T153308Z
UID:10000595-1776848400-1776855600@rapfoundation.org
SUMMARY:Board Meeting
DESCRIPTION:Click here to view the agenda with attachments. \n  \n  \nJoin Zoom Meeting: https://us02web.zoom.us/j/84859857795 \nCall-In: 16699006833 Meeting ID: 848 5985 7795
URL:https://rapfoundation.org/events/board-meeting-25/
END:VEVENT
BEGIN:VEVENT
DTSTART;TZID=America/Los_Angeles:20260422T110000
DTEND;TZID=America/Los_Angeles:20260422T110000
DTSTAMP:20260423T131235
CREATED:20260218T023021Z
LAST-MODIFIED:20260413T203057Z
UID:10000552-1776855600-1776855600@rapfoundation.org
SUMMARY:Facilities Committee Meeting Cancelled
DESCRIPTION:
URL:https://rapfoundation.org/events/facilities-committee-4/
END:VEVENT
BEGIN:VEVENT
DTSTART;TZID=America/Los_Angeles:20260518T090000
DTEND;TZID=America/Los_Angeles:20260518T090000
DTSTAMP:20260423T131235
CREATED:20260218T023021Z
LAST-MODIFIED:20260218T023021Z
UID:10000553-1779094800-1779094800@rapfoundation.org
SUMMARY:Executive Committee
DESCRIPTION:
URL:https://rapfoundation.org/events/executive-committee-4/
END:VEVENT
BEGIN:VEVENT
DTSTART;TZID=America/Los_Angeles:20260518T100000
DTEND;TZID=America/Los_Angeles:20260518T100000
DTSTAMP:20260423T131235
CREATED:20260218T023021Z
LAST-MODIFIED:20260218T023021Z
UID:10000554-1779098400-1779098400@rapfoundation.org
SUMMARY:Finance Committee
DESCRIPTION:REGIONAL ACCESS PROJECT FOUNDATION  \nFINANCE/INVESTMENT COMMITTEE MEETING  \nClick here for agenda with attachments  \nMay 18\, 2026\, 10:00am or immediately following the Executive Committee meeting  \n  \nBoard members must attend in person. The public may participate in person or by way of Zoom/Teleconference:   \nJoin Zoom Meeting: https://us02web.zoom.us/j/82701581802 \nCall-In: 1 669 900 6833 Meeting ID: 827 0158 1802  \nJoin Zoom Meeting: This meeting will be conducted in-person and is consistent with Governor Newsom’s Assembly Bill 2449\, preserving AB 361 and adding two more options for hybrid meetings: “just cause” and “emergency circumstances.”  
URL:https://rapfoundation.org/events/finance-committee-14/
END:VEVENT
BEGIN:VEVENT
DTSTART;TZID=America/Los_Angeles:20260527T090000
DTEND;TZID=America/Los_Angeles:20260527T090000
DTSTAMP:20260423T131235
CREATED:20260218T023035Z
LAST-MODIFIED:20260218T023035Z
UID:10000555-1779872400-1779872400@rapfoundation.org
SUMMARY:Board Meeting
DESCRIPTION:
URL:https://rapfoundation.org/events/board-meeting-16/
END:VEVENT
BEGIN:VEVENT
DTSTART;TZID=America/Los_Angeles:20260527T110000
DTEND;TZID=America/Los_Angeles:20260527T110000
DTSTAMP:20260423T131235
CREATED:20260218T023035Z
LAST-MODIFIED:20260218T023035Z
UID:10000556-1779879600-1779879600@rapfoundation.org
SUMMARY:Facilities Committee
DESCRIPTION:
URL:https://rapfoundation.org/events/facilities-committee-5/
END:VEVENT
BEGIN:VEVENT
DTSTART;TZID=America/Los_Angeles:20260615T090000
DTEND;TZID=America/Los_Angeles:20260615T090000
DTSTAMP:20260423T131235
CREATED:20260218T023036Z
LAST-MODIFIED:20260218T023036Z
UID:10000557-1781514000-1781514000@rapfoundation.org
SUMMARY:Executive Committee
DESCRIPTION:
URL:https://rapfoundation.org/events/executive-committee-5/
END:VEVENT
BEGIN:VEVENT
DTSTART;TZID=America/Los_Angeles:20260615T100000
DTEND;TZID=America/Los_Angeles:20260615T100000
DTSTAMP:20260423T131235
CREATED:20260218T023036Z
LAST-MODIFIED:20260218T023036Z
UID:10000558-1781517600-1781517600@rapfoundation.org
SUMMARY:Finance Committee
DESCRIPTION:REGIONAL ACCESS PROJECT FOUNDATION  \nFINANCE/INVESTMENT COMMITTEE MEETING  \nClick here for agenda with attachments  \nJune 15\, 2026\, 10:00am or immediately following the Executive Committee meeting  \n  \nBoard members must attend in person. The public may participate in person or by way of Zoom/Teleconference:   \nJoin Zoom Meeting: https://us02web.zoom.us/j/81521799899 \nCall-In: 1 669 900 6833 Meeting ID: 815 2179 9899  \nJoin Zoom Meeting: This meeting will be conducted in-person and is consistent with Governor Newsom’s Assembly Bill 2449\, preserving AB 361 and adding two more options for hybrid meetings: “just cause” and “emergency circumstances.”  
URL:https://rapfoundation.org/events/finance-committee-15/
END:VEVENT
BEGIN:VEVENT
DTSTART;TZID=America/Los_Angeles:20260624T090000
DTEND;TZID=America/Los_Angeles:20260624T090000
DTSTAMP:20260423T131235
CREATED:20260218T023036Z
LAST-MODIFIED:20260218T023036Z
UID:10000559-1782291600-1782291600@rapfoundation.org
SUMMARY:Board Meeting
DESCRIPTION:
URL:https://rapfoundation.org/events/board-meeting-17/
END:VEVENT
BEGIN:VEVENT
DTSTART;TZID=America/Los_Angeles:20260624T110000
DTEND;TZID=America/Los_Angeles:20260624T110000
DTSTAMP:20260423T131235
CREATED:20260218T023051Z
LAST-MODIFIED:20260218T023051Z
UID:10000560-1782298800-1782298800@rapfoundation.org
SUMMARY:Facilities Committee
DESCRIPTION:
URL:https://rapfoundation.org/events/facilities-committee-6/
END:VEVENT
BEGIN:VEVENT
DTSTART;TZID=America/Los_Angeles:20260713T090000
DTEND;TZID=America/Los_Angeles:20260713T090000
DTSTAMP:20260423T131235
CREATED:20260218T023051Z
LAST-MODIFIED:20260218T023051Z
UID:10000561-1783933200-1783933200@rapfoundation.org
SUMMARY:Executive Committee
DESCRIPTION:
URL:https://rapfoundation.org/events/executive-committee-6/
END:VEVENT
BEGIN:VEVENT
DTSTART;TZID=America/Los_Angeles:20260713T100000
DTEND;TZID=America/Los_Angeles:20260713T100000
DTSTAMP:20260423T131235
CREATED:20260218T023051Z
LAST-MODIFIED:20260218T023051Z
UID:10000562-1783936800-1783936800@rapfoundation.org
SUMMARY:Finance Committee
DESCRIPTION:REGIONAL ACCESS PROJECT FOUNDATION  \nFINANCE/INVESTMENT COMMITTEE MEETING  \nClick here for agenda with attachments  \nJuly 13\, 2026\, 10:00am or immediately following the Executive Committee meeting  \n  \nBoard members must attend in person. The public may participate in person or by way of Zoom/Teleconference:   \nJoin Zoom Meeting: https://us02web.zoom.us/j/82522674362 \nCall-In: 1 669 900 6833 Meeting ID: 825 2267 4362  \nJoin Zoom Meeting: This meeting will be conducted in-person and is consistent with Governor Newsom’s Assembly Bill 2449\, preserving AB 361 and adding two more options for hybrid meetings: “just cause” and “emergency circumstances.”  
URL:https://rapfoundation.org/events/finance-committee-16/
END:VEVENT
BEGIN:VEVENT
DTSTART;TZID=America/Los_Angeles:20260720T130000
DTEND;TZID=America/Los_Angeles:20260720T130000
DTSTAMP:20260423T131235
CREATED:20260216T220029Z
LAST-MODIFIED:20260218T023052Z
UID:10000529-1784552400-1784552400@rapfoundation.org
SUMMARY:NPO Centric Committee Meeting
DESCRIPTION:The meeting agenda will be available a few days before the meeting. \nBoard members must attend in person. The public may participate in person or by way of Zoom/Teleconference. Join Zoom Meeting Here: https://us02web.zoom.us/j/85857505588 \nCall-In: (669) 444 9171   Meeting ID: 858 5750 5588 \nThis meeting will be conducted in person and is consistent with Governor Newsom’s Assembly Bill 2449\, preserving AB 361 and adding two more options for hybrid meetings: \n“just cause” and “emergency circumstances.”
URL:https://rapfoundation.org/events/npo-centric-committee-meeting-25/
END:VEVENT
BEGIN:VEVENT
DTSTART;TZID=America/Los_Angeles:20260722T090000
DTEND;TZID=America/Los_Angeles:20260722T090000
DTSTAMP:20260423T131235
CREATED:20260218T023052Z
LAST-MODIFIED:20260218T023052Z
UID:10000563-1784710800-1784710800@rapfoundation.org
SUMMARY:Board Meeting
DESCRIPTION:
URL:https://rapfoundation.org/events/board-meeting-18/
END:VEVENT
BEGIN:VEVENT
DTSTART;TZID=America/Los_Angeles:20260722T110000
DTEND;TZID=America/Los_Angeles:20260722T110000
DTSTAMP:20260423T131235
CREATED:20260218T023107Z
LAST-MODIFIED:20260218T023107Z
UID:10000564-1784718000-1784718000@rapfoundation.org
SUMMARY:Facilities Committee
DESCRIPTION:
URL:https://rapfoundation.org/events/facilities-committee-7/
END:VEVENT
BEGIN:VEVENT
DTSTART;TZID=America/Los_Angeles:20260914T090000
DTEND;TZID=America/Los_Angeles:20260914T090000
DTSTAMP:20260423T131235
CREATED:20260218T023108Z
LAST-MODIFIED:20260218T023108Z
UID:10000565-1789376400-1789376400@rapfoundation.org
SUMMARY:Executive Committee
DESCRIPTION:
URL:https://rapfoundation.org/events/executive-committee-7/
END:VEVENT
BEGIN:VEVENT
DTSTART;TZID=America/Los_Angeles:20260914T100000
DTEND;TZID=America/Los_Angeles:20260914T100000
DTSTAMP:20260423T131235
CREATED:20260218T023108Z
LAST-MODIFIED:20260218T023108Z
UID:10000566-1789380000-1789380000@rapfoundation.org
SUMMARY:Finance Committee
DESCRIPTION:REGIONAL ACCESS PROJECT FOUNDATION  \nFINANCE/INVESTMENT COMMITTEE MEETING  \nClick here for agenda with attachments  \nSeptember 14\, 2026\, 10:00am or immediately following the Executive Committee meeting  \n  \nBoard members must attend in person. The public may participate in person or by way of Zoom/Teleconference:   \nJoin Zoom Meeting: https://us02web.zoom.us/j/88359101380 \nCall-In: 1 669 900 6833 Meeting ID: 883 5910 1380  \nJoin Zoom Meeting: This meeting will be conducted in-person and is consistent with Governor Newsom’s Assembly Bill 2449\, preserving AB 361 and adding two more options for hybrid meetings: “just cause” and “emergency circumstances.”  
URL:https://rapfoundation.org/events/finance-committee-17/
END:VEVENT
BEGIN:VEVENT
DTSTART;TZID=America/Los_Angeles:20260921T130000
DTEND;TZID=America/Los_Angeles:20260921T130000
DTSTAMP:20260423T131235
CREATED:20260216T220030Z
LAST-MODIFIED:20260218T023108Z
UID:10000530-1789995600-1789995600@rapfoundation.org
SUMMARY:NPO Centric Committee Meeting
DESCRIPTION:The meeting agenda will be available a few days before the meeting. \nBoard members must attend in person. The public may participate in person or by way of Zoom/Teleconference. Join Zoom Meeting Here: https://us02web.zoom.us/j/86756115579 \nCall-In: (669) 444 9171   Meeting ID: 867 5611 5579 \nThis meeting will be conducted in person and is consistent with Governor Newsom’s Assembly Bill 2449\, preserving AB 361 and adding two more options for hybrid meetings: \n“just cause” and “emergency circumstances.”
URL:https://rapfoundation.org/events/npo-centric-committee-meeting-26/
END:VEVENT
BEGIN:VEVENT
DTSTART;TZID=America/Los_Angeles:20260923T090000
DTEND;TZID=America/Los_Angeles:20260923T090000
DTSTAMP:20260423T131235
CREATED:20260218T023109Z
LAST-MODIFIED:20260218T023109Z
UID:10000567-1790154000-1790154000@rapfoundation.org
SUMMARY:Board Meeting
DESCRIPTION:
URL:https://rapfoundation.org/events/board-meeting-19/
END:VEVENT
BEGIN:VEVENT
DTSTART;TZID=America/Los_Angeles:20260923T110000
DTEND;TZID=America/Los_Angeles:20260923T110000
DTSTAMP:20260423T131235
CREATED:20260218T023120Z
LAST-MODIFIED:20260218T023120Z
UID:10000568-1790161200-1790161200@rapfoundation.org
SUMMARY:Facilities Committee
DESCRIPTION:
URL:https://rapfoundation.org/events/facilities-committee-8/
END:VEVENT
BEGIN:VEVENT
DTSTART;TZID=America/Los_Angeles:20261019T090000
DTEND;TZID=America/Los_Angeles:20261019T090000
DTSTAMP:20260423T131235
CREATED:20260218T023121Z
LAST-MODIFIED:20260218T023121Z
UID:10000569-1792400400-1792400400@rapfoundation.org
SUMMARY:Executive Committee
DESCRIPTION:
URL:https://rapfoundation.org/events/executive-committee-8/
END:VEVENT
BEGIN:VEVENT
DTSTART;TZID=America/Los_Angeles:20261019T100000
DTEND;TZID=America/Los_Angeles:20261019T100000
DTSTAMP:20260423T131235
CREATED:20260218T023121Z
LAST-MODIFIED:20260218T023121Z
UID:10000570-1792404000-1792404000@rapfoundation.org
SUMMARY:Finance Committee
DESCRIPTION:REGIONAL ACCESS PROJECT FOUNDATION  \nFINANCE/INVESTMENT COMMITTEE MEETING  \nClick here for agenda with attachments  \nOctober 19\, 2026\, 10:00am or immediately following the Executive Committee meeting  \n  \nBoard members must attend in person. The public may participate in person or by way of Zoom/Teleconference:   \nJoin Zoom Meeting: https://us02web.zoom.us/j/83747588181 \nCall-In: 1 669 900 6833 Meeting ID: 837 4758 8181  \nJoin Zoom Meeting: This meeting will be conducted in-person and is consistent with Governor Newsom’s Assembly Bill 2449\, preserving AB 361 and adding two more options for hybrid meetings: “just cause” and “emergency circumstances.”  
URL:https://rapfoundation.org/events/finance-committee-18/
END:VEVENT
BEGIN:VEVENT
DTSTART;TZID=America/Los_Angeles:20261026T130000
DTEND;TZID=America/Los_Angeles:20261026T130000
DTSTAMP:20260423T131235
CREATED:20260218T023121Z
LAST-MODIFIED:20260218T023121Z
UID:10000571-1793019600-1793019600@rapfoundation.org
SUMMARY:NPO Centric Committee Meeting
DESCRIPTION:The meeting agenda will be available a few days before the meeting. \nBoard members must attend in person. The public may participate in person or by way of Zoom/Teleconference. Join Zoom Meeting Here: https://us02web.zoom.us/j/87506405395 \nCall-In: (669) 444 9171   Meeting ID: 875 0640 5395 \nThis meeting will be conducted in person and is consistent with Governor Newsom’s Assembly Bill 2449\, preserving AB 361 and adding two more options for hybrid meetings: \n“just cause” and “emergency circumstances.”
URL:https://rapfoundation.org/events/npo-centric-committee-meeting-27/
END:VEVENT
BEGIN:VEVENT
DTSTART;TZID=America/Los_Angeles:20261028T090000
DTEND;TZID=America/Los_Angeles:20261028T090000
DTSTAMP:20260423T131235
CREATED:20260218T023121Z
LAST-MODIFIED:20260218T023121Z
UID:10000572-1793178000-1793178000@rapfoundation.org
SUMMARY:Board Meeting
DESCRIPTION:
URL:https://rapfoundation.org/events/board-meeting-20/
END:VEVENT
BEGIN:VEVENT
DTSTART;TZID=America/Los_Angeles:20261028T110000
DTEND;TZID=America/Los_Angeles:20261028T110000
DTSTAMP:20260423T131235
CREATED:20260218T023253Z
LAST-MODIFIED:20260218T023253Z
UID:10000573-1793185200-1793185200@rapfoundation.org
SUMMARY:Facilities Committee
DESCRIPTION:
URL:https://rapfoundation.org/events/facilities-committee-9/
END:VEVENT
END:VCALENDAR