BEGIN:VCALENDAR
VERSION:2.0
PRODID:-//Regional Access Project Foundation, Inc. - ECPv6.15.17.1//NONSGML v1.0//EN
CALSCALE:GREGORIAN
METHOD:PUBLISH
X-WR-CALNAME:Regional Access Project Foundation, Inc.
X-ORIGINAL-URL:https://rapfoundation.org
X-WR-CALDESC:Events for Regional Access Project Foundation, Inc.
REFRESH-INTERVAL;VALUE=DURATION:PT1H
X-Robots-Tag:noindex
X-PUBLISHED-TTL:PT1H
BEGIN:VTIMEZONE
TZID:America/Los_Angeles
BEGIN:DAYLIGHT
TZOFFSETFROM:-0800
TZOFFSETTO:-0700
TZNAME:PDT
DTSTART:20250309T100000
END:DAYLIGHT
BEGIN:STANDARD
TZOFFSETFROM:-0700
TZOFFSETTO:-0800
TZNAME:PST
DTSTART:20251102T090000
END:STANDARD
BEGIN:DAYLIGHT
TZOFFSETFROM:-0800
TZOFFSETTO:-0700
TZNAME:PDT
DTSTART:20260308T100000
END:DAYLIGHT
BEGIN:STANDARD
TZOFFSETFROM:-0700
TZOFFSETTO:-0800
TZNAME:PST
DTSTART:20261101T090000
END:STANDARD
BEGIN:DAYLIGHT
TZOFFSETFROM:-0800
TZOFFSETTO:-0700
TZNAME:PDT
DTSTART:20270314T100000
END:DAYLIGHT
BEGIN:STANDARD
TZOFFSETFROM:-0700
TZOFFSETTO:-0800
TZNAME:PST
DTSTART:20271107T090000
END:STANDARD
END:VTIMEZONE
BEGIN:VEVENT
DTSTART;TZID=America/Los_Angeles:20260325T083000
DTEND;TZID=America/Los_Angeles:20260325T210000
DTSTAMP:20260425T170549
CREATED:20260324T124347Z
LAST-MODIFIED:20260324T124733Z
UID:10000588-1774427400-1774472400@rapfoundation.org
SUMMARY:Special Executive Committee Meeting
DESCRIPTION:Click here to view the agenda.
URL:https://rapfoundation.org/events/special-executive-committee-meeting-23/
END:VEVENT
BEGIN:VEVENT
DTSTART;TZID=America/Los_Angeles:20260325T090000
DTEND;TZID=America/Los_Angeles:20260325T110000
DTSTAMP:20260425T170549
CREATED:20260320T001726Z
LAST-MODIFIED:20260324T175036Z
UID:10000586-1774429200-1774436400@rapfoundation.org
SUMMARY:Board Meeting
DESCRIPTION:Click here to view the agenda with attachments. \nJoin Zoom Meeting: https://us02web.zoom.us/j/86477919182 \n Call In: 16694449171  Meeting ID: 864 7791 9182
URL:https://rapfoundation.org/events/board-meeting-24/
END:VEVENT
BEGIN:VEVENT
DTSTART;TZID=America/Los_Angeles:20260325T100000
DTEND;TZID=America/Los_Angeles:20260325T113000
DTSTAMP:20260425T170549
CREATED:20260319T230625Z
LAST-MODIFIED:20260325T004215Z
UID:10000585-1774432800-1774438200@rapfoundation.org
SUMMARY:Facilities Committee Meeting
DESCRIPTION:Click here to view the agenda with attachments.  \n  \nJoin Zoom Meeting: https://us02web.zoom.us/j/84334543427 \nCall-In: 16699006833 Meeting: 843 3454 3427
URL:https://rapfoundation.org/events/facilities-committee-meeting-30/
END:VEVENT
END:VCALENDAR