BEGIN:VCALENDAR
VERSION:2.0
PRODID:-//Regional Access Project Foundation, Inc. - ECPv6.15.17.1//NONSGML v1.0//EN
CALSCALE:GREGORIAN
METHOD:PUBLISH
X-WR-CALNAME:Regional Access Project Foundation, Inc.
X-ORIGINAL-URL:https://rapfoundation.org
X-WR-CALDESC:Events for Regional Access Project Foundation, Inc.
REFRESH-INTERVAL;VALUE=DURATION:PT1H
X-Robots-Tag:noindex
X-PUBLISHED-TTL:PT1H
BEGIN:VTIMEZONE
TZID:America/Los_Angeles
BEGIN:DAYLIGHT
TZOFFSETFROM:-0800
TZOFFSETTO:-0700
TZNAME:PDT
DTSTART:20250309T100000
END:DAYLIGHT
BEGIN:STANDARD
TZOFFSETFROM:-0700
TZOFFSETTO:-0800
TZNAME:PST
DTSTART:20251102T090000
END:STANDARD
BEGIN:DAYLIGHT
TZOFFSETFROM:-0800
TZOFFSETTO:-0700
TZNAME:PDT
DTSTART:20260308T100000
END:DAYLIGHT
BEGIN:STANDARD
TZOFFSETFROM:-0700
TZOFFSETTO:-0800
TZNAME:PST
DTSTART:20261101T090000
END:STANDARD
BEGIN:DAYLIGHT
TZOFFSETFROM:-0800
TZOFFSETTO:-0700
TZNAME:PDT
DTSTART:20270314T100000
END:DAYLIGHT
BEGIN:STANDARD
TZOFFSETFROM:-0700
TZOFFSETTO:-0800
TZNAME:PST
DTSTART:20271107T090000
END:STANDARD
END:VTIMEZONE
BEGIN:VEVENT
DTSTART;TZID=America/Los_Angeles:20260317T090000
DTEND;TZID=America/Los_Angeles:20260317T103000
DTSTAMP:20260425T184219
CREATED:20260303T200910Z
LAST-MODIFIED:20260313T202029Z
UID:10000582-1773738000-1773743400@rapfoundation.org
SUMMARY:Executive Committee Meeting
DESCRIPTION:Click here to view the agenda with attachments. \n  \n  \nJoin Zoom Meeting: https://us02web.zoom.us/j/85853227084 \nCall-In: 16694449171 Meeting ID: 858 5322 7084
URL:https://rapfoundation.org/events/executive-committee-meeting-40/
END:VEVENT
BEGIN:VEVENT
DTSTART;TZID=America/Los_Angeles:20260317T100000
DTEND;TZID=America/Los_Angeles:20260317T110000
DTSTAMP:20260425T184219
CREATED:20260121T235221Z
LAST-MODIFIED:20260313T210333Z
UID:10000106-1773741600-1773745200@rapfoundation.org
SUMMARY:Finance Committee - CANCELED
DESCRIPTION:REGIONAL ACCESS PROJECT FOUNDATION  \nFINANCE/INVESTMENT COMMITTEE MEETING  \nClick here for agenda with attachments  \nMarch 17\, 2026\, 10:00am or immediately following the Executive Committee meeting  \nCANCELED 
URL:https://rapfoundation.org/events/finance-committee-3/
LOCATION:Wilson Community Room (101)\, 41550 Eclectic St.\, Palm Desert\, CA\, 92260\, United States
END:VEVENT
END:VCALENDAR