BEGIN:VCALENDAR
VERSION:2.0
PRODID:-//Regional Access Project Foundation, Inc. - ECPv6.15.17.1//NONSGML v1.0//EN
CALSCALE:GREGORIAN
METHOD:PUBLISH
X-WR-CALNAME:Regional Access Project Foundation, Inc.
X-ORIGINAL-URL:https://rapfoundation.org
X-WR-CALDESC:Events for Regional Access Project Foundation, Inc.
REFRESH-INTERVAL;VALUE=DURATION:PT1H
X-Robots-Tag:noindex
X-PUBLISHED-TTL:PT1H
BEGIN:VTIMEZONE
TZID:America/Los_Angeles
BEGIN:DAYLIGHT
TZOFFSETFROM:-0800
TZOFFSETTO:-0700
TZNAME:PDT
DTSTART:20250309T100000
END:DAYLIGHT
BEGIN:STANDARD
TZOFFSETFROM:-0700
TZOFFSETTO:-0800
TZNAME:PST
DTSTART:20251102T090000
END:STANDARD
BEGIN:DAYLIGHT
TZOFFSETFROM:-0800
TZOFFSETTO:-0700
TZNAME:PDT
DTSTART:20260308T100000
END:DAYLIGHT
BEGIN:STANDARD
TZOFFSETFROM:-0700
TZOFFSETTO:-0800
TZNAME:PST
DTSTART:20261101T090000
END:STANDARD
BEGIN:DAYLIGHT
TZOFFSETFROM:-0800
TZOFFSETTO:-0700
TZNAME:PDT
DTSTART:20270314T100000
END:DAYLIGHT
BEGIN:STANDARD
TZOFFSETFROM:-0700
TZOFFSETTO:-0800
TZNAME:PST
DTSTART:20271107T090000
END:STANDARD
END:VTIMEZONE
BEGIN:VEVENT
DTSTART;TZID=America/Los_Angeles:20260303T150000
DTEND;TZID=America/Los_Angeles:20260303T160000
DTSTAMP:20260425T170836
CREATED:20260226T220329Z
LAST-MODIFIED:20260303T224141Z
UID:10000580-1772550000-1772553600@rapfoundation.org
SUMMARY:Governance Committee Meeting
DESCRIPTION:Click here to view the agenda with attachments. \n  \n  \nJoin Zoom Meeting: https://us02web.zoom.us/j/89154164594 \nCall-In: 16694449171 Meeting ID: 891 5416 4594
URL:https://rapfoundation.org/events/governance-committee-meeting-10/
END:VEVENT
END:VCALENDAR