BEGIN:VCALENDAR
VERSION:2.0
PRODID:-//Regional Access Project Foundation, Inc. - ECPv6.15.17.1//NONSGML v1.0//EN
CALSCALE:GREGORIAN
METHOD:PUBLISH
X-ORIGINAL-URL:https://rapfoundation.org
X-WR-CALDESC:Events for Regional Access Project Foundation, Inc.
REFRESH-INTERVAL;VALUE=DURATION:PT1H
X-Robots-Tag:noindex
X-PUBLISHED-TTL:PT1H
BEGIN:VTIMEZONE
TZID:America/Los_Angeles
BEGIN:DAYLIGHT
TZOFFSETFROM:-0800
TZOFFSETTO:-0700
TZNAME:PDT
DTSTART:20250309T100000
END:DAYLIGHT
BEGIN:STANDARD
TZOFFSETFROM:-0700
TZOFFSETTO:-0800
TZNAME:PST
DTSTART:20251102T090000
END:STANDARD
BEGIN:DAYLIGHT
TZOFFSETFROM:-0800
TZOFFSETTO:-0700
TZNAME:PDT
DTSTART:20260308T100000
END:DAYLIGHT
BEGIN:STANDARD
TZOFFSETFROM:-0700
TZOFFSETTO:-0800
TZNAME:PST
DTSTART:20261101T090000
END:STANDARD
BEGIN:DAYLIGHT
TZOFFSETFROM:-0800
TZOFFSETTO:-0700
TZNAME:PDT
DTSTART:20270314T100000
END:DAYLIGHT
BEGIN:STANDARD
TZOFFSETFROM:-0700
TZOFFSETTO:-0800
TZNAME:PST
DTSTART:20271107T090000
END:STANDARD
END:VTIMEZONE
BEGIN:VEVENT
DTSTART;TZID=America/Los_Angeles:20260225T090000
DTEND;TZID=America/Los_Angeles:20260225T110000
DTSTAMP:20260425T170641
CREATED:20260219T234039Z
LAST-MODIFIED:20260220T163735Z
UID:10000578-1772010000-1772017200@rapfoundation.org
SUMMARY:Board Meeting
DESCRIPTION:Click here to view the agenda with attachments. \nBoard members must attend in person. The public may participate in person or by way of   Zoom/Teleconference: \nJoin Zoom Meeting: https://us02web.zoom.us/j/89471547608 \nCall-In: 16699006833 Meeting: 894 7154 7608
URL:https://rapfoundation.org/events/board-meeting-23/
END:VEVENT
BEGIN:VEVENT
DTSTART;TZID=America/Los_Angeles:20260225T100000
DTEND;TZID=America/Los_Angeles:20260225T110000
DTSTAMP:20260425T170641
CREATED:20260220T002400Z
LAST-MODIFIED:20260225T164822Z
UID:10000579-1772013600-1772017200@rapfoundation.org
SUMMARY:Facilities Committee Meeting
DESCRIPTION:Click here to view the agenda with attachments. \n  \n  \nBoard members must attend in person. The public may participate in person or by way of Zoom/Teleconference: \nJoin Zoom Meeting: https://us02web.zoom.us/j/84137131787 \nCall-In: 16699006833 Meeting: 841 3713 1787
URL:https://rapfoundation.org/events/facilities-committee-meeting-29/
END:VEVENT
END:VCALENDAR